Workbook
Name impact: Values!$B$2:$B$6
Name likelihood: Values!$A$2:$A$6
Name owner: Values!$F$2:$F$5
Name rating: Values!$C$2:$C$5
Name rating_score: Values!$D$2:$D$5
Name treatment: Values!$E$2:$E$5

Sheet Risk rating matrix
B1: Impact
A2: Likelihood | B2: Insignificant (1) | C2: Minor (2) | D2: Moderate (3) | E2: High (3) | F2: Major (5)
A3: Highly unlikely (1) | B3: 1 | C3: 2 | D3: 3 | E3: 4 | F3: 5
A4: Unlikely (2) | B4: 2 | C4: 4 | D4: 6 | E4: 8 | F4: 10
A5: Possible (3) | B5: 3 | C5: 6 | D5: 9 | E5: 12 | F5: 15
A6: Likely (4) | B6: 4 | C6: 8 | D6: 12 | E6: 16 | F6: 20
A7: Highly likely (5) | B7: 5 | C7: 10 | D7: 15 | E7: 20 | F7: 25
A11: 1-6 | B11: Low risk. No further controls needed.
A12: 7-12 | B12: Moderate risk. Further controls likely needed unless happy to accept a moderate risk, for example on a low-value asset.
A13: 13-19 | B13: High risk. Further controls required and regular review and monitoring of control measure effectiveness. Unlikely to accept such a risk.
A14: 20-25 | B14: Major risk. Mr Data, initiate defence pattern omega. Engage!

Sheet Risk register
D1: Inherent Risk | K1: Residual Risk
A2: Risk ID | B2: Risk | C2: Risk owner | D2: Likelihood | E2: Likelihood score | F2: Impact | G2: Impact score | H2: Rating score | I2: Rating | J2: Existing controls | K2: Likelihood | L2: Likelihood score | M2: Impact | N2: Impact score | O2: Rating score | P2: Rating | Q2: Treatment | R2: Extra controls required | S2: Compliance metrics | T2: Last review date
A3: 1 | B3: Loss of client data in hosted environments due to unauthorized access | C3: Mary-Lou | D3: 4. Likely | E3: =IF(D3="1. Highly unlikely",1,IF(D3="2. Unlikely",2,IF(D3="3. Possible",3,IF(D3="4. Likely",4,IF(D3="5. Highly likely",5,0))))) -> 4 | F3: 4. High | G3: =IF($F3="1. Insignificant",1,IF($F3="2. Minor",2,IF($F3="3. Moderate",3,IF($F3="4. High",4,IF($F3="5. Major",5,0))))) -> 4 | H3: =E3*G3 -> 16 | I3: =IF(H3=0, "",IF(H3<=Values!$D$2, "1. Low", IF(H3<=Values!$D$3, "2. Moderate", IF(H3<=Values!$D$4, "3. High", "4. Major")))) -> 3. High | J3: Access control management Alerting on user account changes Firewall | K3: 3. Possible | L3: =IF(K3="1. Highly unlikely",1,IF(K3="2. Unlikely",2,IF(K3="3. Possible",3,IF(K3="4. Likely",4,IF(K3="5. Highly likely",5,0))))) -> 3 | M3: 3. Moderate | N3: =IF($M3="1. Insignificant",1,IF($M3="2. Minor",2,IF($M3="3. Moderate",3,IF($M3="4. High",4,IF($M3="5. Major",5,0))))) -> 3 | O3: =L3*N3 -> 9 | P3: =IF(O3=0, "",IF(O3<=Values!$D$2, "1. Low", IF(O3<=Values!$D$3, "2. Moderate", IF(O3<=Values!$D$4, "3. High", "4. Major")))) -> 2. Moderate | Q3: Treat | R3: Employee security awareness training Phishing campaigns | T3: 45689
A4: 2 | B4: Loss of client data in internal environments due to unauthorized access | C4: Jim-Bob | D4: 3. Possible | E4: =IF(D4="1. Highly unlikely",1,IF(D4="2. Unlikely",2,IF(D4="3. Possible",3,IF(D4="4. Likely",4,IF(D4="5. Highly likely",5,0))))) -> 3 | F4: 4. High | G4: =IF($F4="1. Insignificant",1,IF($F4="2. Minor",2,IF($F4="3. Moderate",3,IF($F4="4. High",4,IF($F4="5. Major",5,0))))) -> 4 | H4: =E4*G4 -> 12 | I4: =IF(H4=0, "",IF(H4<=Values!$D$2, "1. Low", IF(H4<=Values!$D$3, "2. Moderate", IF(H4<=Values!$D$4, "3. High", "4. Major")))) -> 2. Moderate | J4: Access control management Alerting on user account changes Firewall | K4: 3. Possible | L4: =IF(K4="1. Highly unlikely",1,IF(K4="2. Unlikely",2,IF(K4="3. Possible",3,IF(K4="4. Likely",4,IF(K4="5. Highly likely",5,0))))) -> 3 | M4: 3. Moderate | N4: =IF($M4="1. Insignificant",1,IF($M4="2. Minor",2,IF($M4="3. Moderate",3,IF($M4="4. High",4,IF($M4="5. Major",5,0))))) -> 3 | O4: =L4*N4 -> 9 | P4: =IF(O4=0, "",IF(O4<=Values!$D$2, "1. Low", IF(O4<=Values!$D$3, "2. Moderate", IF(O4<=Values!$D$4, "3. High", "4. Major")))) -> 2. Moderate | Q4: Treat | R4: Employee security awareness training Phishing campaigns | T4: 45690
A5: 3 | B5: Exposure of employee data due to poor data management practices | C5: John-Boy | D5: 3. Possible | E5: =IF(D5="1. Highly unlikely",1,IF(D5="2. Unlikely",2,IF(D5="3. Possible",3,IF(D5="4. Likely",4,IF(D5="5. Highly likely",5,0))))) -> 3 | F5: 4. High | G5: =IF($F5="1. Insignificant",1,IF($F5="2. Minor",2,IF($F5="3. Moderate",3,IF($F5="4. High",4,IF($F5="5. Major",5,0))))) -> 4 | H5: =E5*G5 -> 12 | I5: =IF(H5=0, "",IF(H5<=Values!$D$2, "1. Low", IF(H5<=Values!$D$3, "2. Moderate", IF(H5<=Values!$D$4, "3. High", "4. Major")))) -> 2. Moderate | J5: Acess control management Physical access control | K5: 3. Possible | L5: =IF(K5="1. Highly unlikely",1,IF(K5="2. Unlikely",2,IF(K5="3. Possible",3,IF(K5="4. Likely",4,IF(K5="5. Highly likely",5,0))))) -> 3 | M5: 3. Moderate | N5: =IF($M5="1. Insignificant",1,IF($M5="2. Minor",2,IF($M5="3. Moderate",3,IF($M5="4. High",4,IF($M5="5. Major",5,0))))) -> 3 | O5: =L5*N5 -> 9 | P5: =IF(O5=0, "",IF(O5<=Values!$D$2, "1. Low", IF(O5<=Values!$D$3, "2. Moderate", IF(O5<=Values!$D$4, "3. High", "4. Major")))) -> 2. Moderate | Q5: Treat | R5: Employee security awareness training Phishing campaigns | T5: 45691
A6: 4 | B6: System compromise or data theft due to successful phishing or spear phishing attack | C6: Granpa-Joe | D6: 4. Likely | E6: =IF(D6="1. Highly unlikely",1,IF(D6="2. Unlikely",2,IF(D6="3. Possible",3,IF(D6="4. Likely",4,IF(D6="5. Highly likely",5,0))))) -> 4 | F6: 4. High | G6: =IF($F6="1. Insignificant",1,IF($F6="2. Minor",2,IF($F6="3. Moderate",3,IF($F6="4. High",4,IF($F6="5. Major",5,0))))) -> 4 | H6: =E6*G6 -> 16 | I6: =IF(H6=0, "",IF(H6<=Values!$D$2, "1. Low", IF(H6<=Values!$D$3, "2. Moderate", IF(H6<=Values!$D$4, "3. High", "4. Major")))) -> 3. High | J6: Malware and detection rules on email | K6: 3. Possible | L6: =IF(K6="1. Highly unlikely",1,IF(K6="2. Unlikely",2,IF(K6="3. Possible",3,IF(K6="4. Likely",4,IF(K6="5. Highly likely",5,0))))) -> 3 | M6: 3. Moderate | N6: =IF($M6="1. Insignificant",1,IF($M6="2. Minor",2,IF($M6="3. Moderate",3,IF($M6="4. High",4,IF($M6="5. Major",5,0))))) -> 3 | O6: =L6*N6 -> 9 | P6: =IF(O6=0, "",IF(O6<=Values!$D$2, "1. Low", IF(O6<=Values!$D$3, "2. Moderate", IF(O6<=Values!$D$4, "3. High", "4. Major")))) -> 2. Moderate | Q6: Treat | R6: Employee security awareness training Phishing campaigns | T6: 45692
A7: 5 | B7: Loss of proprietary information due to insufficient intellectual property safeguards | C7: Mary-Lou | D7: 3. Possible | E7: =IF(D7="1. Highly unlikely",1,IF(D7="2. Unlikely",2,IF(D7="3. Possible",3,IF(D7="4. Likely",4,IF(D7="5. Highly likely",5,0))))) -> 3 | F7: 3. Moderate | G7: =IF($F7="1. Insignificant",1,IF($F7="2. Minor",2,IF($F7="3. Moderate",3,IF($F7="4. High",4,IF($F7="5. Major",5,0))))) -> 3 | H7: =E7*G7 -> 9 | I7: =IF(H7=0, "",IF(H7<=Values!$D$2, "1. Low", IF(H7<=Values!$D$3, "2. Moderate", IF(H7<=Values!$D$4, "3. High", "4. Major")))) -> 2. Moderate | J7: Management of company information process Access control management Firewall | K7: 3. Possible | L7: =IF(K7="1. Highly unlikely",1,IF(K7="2. Unlikely",2,IF(K7="3. Possible",3,IF(K7="4. Likely",4,IF(K7="5. Highly likely",5,0))))) -> 3 | M7: 3. Moderate | N7: =IF($M7="1. Insignificant",1,IF($M7="2. Minor",2,IF($M7="3. Moderate",3,IF($M7="4. High",4,IF($M7="5. Major",5,0))))) -> 3 | O7: =L7*N7 -> 9 | P7: =IF(O7=0, "",IF(O7<=Values!$D$2, "1. Low", IF(O7<=Values!$D$3, "2. Moderate", IF(O7<=Values!$D$4, "3. High", "4. Major")))) -> 2. Moderate | Q7: Treat | R7: Data loss prevention measures | T7: 45693
A8: 6 | B8: Service disruption and data loss due to failure or attack on hosting environment | C8: Jim-Bob | D8: 3. Possible | E8: =IF(D8="1. Highly unlikely",1,IF(D8="2. Unlikely",2,IF(D8="3. Possible",3,IF(D8="4. Likely",4,IF(D8="5. Highly likely",5,0))))) -> 3 | F8: 3. Moderate | G8: =IF($F8="1. Insignificant",1,IF($F8="2. Minor",2,IF($F8="3. Moderate",3,IF($F8="4. High",4,IF($F8="5. Major",5,0))))) -> 3 | H8: =E8*G8 -> 9 | I8: =IF(H8=0, "",IF(H8<=Values!$D$2, "1. Low", IF(H8<=Values!$D$3, "2. Moderate", IF(H8<=Values!$D$4, "3. High", "4. Major")))) -> 2. Moderate | J8: SLA Backup and recovery procedures Vendor management process | K8: 3. Possible | L8: =IF(K8="1. Highly unlikely",1,IF(K8="2. Unlikely",2,IF(K8="3. Possible",3,IF(K8="4. Likely",4,IF(K8="5. Highly likely",5,0))))) -> 3 | M8: 2. Minor | N8: =IF($M8="1. Insignificant",1,IF($M8="2. Minor",2,IF($M8="3. Moderate",3,IF($M8="4. High",4,IF($M8="5. Major",5,0))))) -> 2 | O8: =L8*N8 -> 6 | P8: =IF(O8=0, "",IF(O8<=Values!$D$2, "1. Low", IF(O8<=Values!$D$3, "2. Moderate", IF(O8<=Values!$D$4, "3. High", "4. Major")))) -> 1. Low | Q8: Accept | T8: 45694
A9: 7 | B9: Data exposure through third-party hosting provider due to insufficient security vetting | C9: John-Boy | D9: 4. Likely | E9: =IF(D9="1. Highly unlikely",1,IF(D9="2. Unlikely",2,IF(D9="3. Possible",3,IF(D9="4. Likely",4,IF(D9="5. Highly likely",5,0))))) -> 4 | F9: 4. High | G9: =IF($F9="1. Insignificant",1,IF($F9="2. Minor",2,IF($F9="3. Moderate",3,IF($F9="4. High",4,IF($F9="5. Major",5,0))))) -> 4 | H9: =E9*G9 -> 16 | I9: =IF(H9=0, "",IF(H9<=Values!$D$2, "1. Low", IF(H9<=Values!$D$3, "2. Moderate", IF(H9<=Values!$D$4, "3. High", "4. Major")))) -> 3. High | J9: Vendor management process | K9: 3. Possible | L9: =IF(K9="1. Highly unlikely",1,IF(K9="2. Unlikely",2,IF(K9="3. Possible",3,IF(K9="4. Likely",4,IF(K9="5. Highly likely",5,0))))) -> 3 | M9: 2. Minor | N9: =IF($M9="1. Insignificant",1,IF($M9="2. Minor",2,IF($M9="3. Moderate",3,IF($M9="4. High",4,IF($M9="5. Major",5,0))))) -> 2 | O9: =L9*N9 -> 6 | P9: =IF(O9=0, "",IF(O9<=Values!$D$2, "1. Low", IF(O9<=Values!$D$3, "2. Moderate", IF(O9<=Values!$D$4, "3. High", "4. Major")))) -> 1. Low | Q9: Accept | T9: 45695
A10: 8 | B10: Unauthorized disclosure of client project data due to insufficient access controls | C10: Granpa-Joe | D10: 4. Likely | E10: =IF(D10="1. Highly unlikely",1,IF(D10="2. Unlikely",2,IF(D10="3. Possible",3,IF(D10="4. Likely",4,IF(D10="5. Highly likely",5,0))))) -> 4 | F10: 4. High | G10: =IF($F10="1. Insignificant",1,IF($F10="2. Minor",2,IF($F10="3. Moderate",3,IF($F10="4. High",4,IF($F10="5. Major",5,0))))) -> 4 | H10: =E10*G10 -> 16 | I10: =IF(H10=0, "",IF(H10<=Values!$D$2, "1. Low", IF(H10<=Values!$D$3, "2. Moderate", IF(H10<=Values!$D$4, "3. High", "4. Major")))) -> 3. High | J10: Access control management Alerting on user account changes Firewall | K10: 3. Possible | L10: =IF(K10="1. Highly unlikely",1,IF(K10="2. Unlikely",2,IF(K10="3. Possible",3,IF(K10="4. Likely",4,IF(K10="5. Highly likely",5,0))))) -> 3 | M10: 3. Moderate | N10: =IF($M10="1. Insignificant",1,IF($M10="2. Minor",2,IF($M10="3. Moderate",3,IF($M10="4. High",4,IF($M10="5. Major",5,0))))) -> 3 | O10: =L10*N10 -> 9 | P10: =IF(O10=0, "",IF(O10<=Values!$D$2, "1. Low", IF(O10<=Values!$D$3, "2. Moderate", IF(O10<=Values!$D$4, "3. High", "4. Major")))) -> 2. Moderate | Q10: Treat | R10: Employee security awareness training Phishing campaigns | T10: 45696
A11: 9 | B11: Loss of critical client data in hosted environements due to failure in backup systems | C11: Mary-Lou | D11: 4. Likely | E11: =IF(D11="1. Highly unlikely",1,IF(D11="2. Unlikely",2,IF(D11="3. Possible",3,IF(D11="4. Likely",4,IF(D11="5. Highly likely",5,0))))) -> 4 | F11: 4. High | G11: =IF($F11="1. Insignificant",1,IF($F11="2. Minor",2,IF($F11="3. Moderate",3,IF($F11="4. High",4,IF($F11="5. Major",5,0))))) -> 4 | H11: =E11*G11 -> 16 | I11: =IF(H11=0, "",IF(H11<=Values!$D$2, "1. Low", IF(H11<=Values!$D$3, "2. Moderate", IF(H11<=Values!$D$4, "3. High", "4. Major")))) -> 3. High | J11: Backup and recovery process Vendor management process | K11: 3. Possible | L11: =IF(K11="1. Highly unlikely",1,IF(K11="2. Unlikely",2,IF(K11="3. Possible",3,IF(K11="4. Likely",4,IF(K11="5. Highly likely",5,0))))) -> 3 | M11: 3. Moderate | N11: =IF($M11="1. Insignificant",1,IF($M11="2. Minor",2,IF($M11="3. Moderate",3,IF($M11="4. High",4,IF($M11="5. Major",5,0))))) -> 3 | O11: =L11*N11 -> 9 | P11: =IF(O11=0, "",IF(O11<=Values!$D$2, "1. Low", IF(O11<=Values!$D$3, "2. Moderate", IF(O11<=Values!$D$4, "3. High", "4. Major")))) -> 2. Moderate | Q11: Treat | R11: High availability or PaaS services for critical applications Failover servers | T11: 45697

Sheet Values
A1: Likelihood | B1: Impact | C1: Rating | D1: Rating score | E1: Treatment | F1: Risk owner - person
A2: 1. Highly unlikely | B2: 1. Insignificant | C2: 1. Low | D2: 6 | E2: Treat | F2: Jim-Bob
A3: 2. Unlikely | B3: 2. Minor | C3: 2. Moderate | D3: 12 | E3: Remove | F3: Mary-Lou
A4: 3. Possible | B4: 3. Moderate | C4: 3. High | D4: 19 | E4: Share | F4: John-Boy
A5: 4. Likely | B5: 4. High | C5: 4. Major | D5: 25 | E5: Accept | F5: Granpa-Joe
A6: 5. Highly Likely | B6: 5. Major
